BEGIN:VCALENDAR
VERSION:2.0
PRODID:icalendar-ruby
CALSCALE:GREGORIAN
METHOD:PUBLISH
BEGIN:VEVENT
DTSTAMP:20260423T080621Z
UID:6-397528@pointbible.tithelysetup2.com
DTSTART:20260529T180000Z
DTEND:20260531T170000Z
CLASS:PUBLIC
CREATED:20260421T104228
DESCRIPTION:A great weekend get away for all me.  Fishing\, food\, games\,
  lessons with Pastor Will. Cost is $75.
LAST-MODIFIED:20260421T104228
LOCATION:Hatch Lake\, NY
SUMMARY:Men's Retreat
URL;VALUE=URI:https://pointbible.tithelysetup2.com/events/mens-retreat/2026
 -05-29
ATTACH;FILENAME=mens-trip-pic.JPG;FMTTYPE=image/jpeg:https://dq5pwpg1q8ru0.
 cloudfront.net/2026/04/21/14/42/28/84e4a532-d26b-4a57-b030-2ad2dbd31faf/me
 ns-trip-pic.JPG
END:VEVENT
END:VCALENDAR
