BEGIN:VCALENDAR
VERSION:2.0
PRODID:icalendar-ruby
CALSCALE:GREGORIAN
METHOD:PUBLISH
BEGIN:VEVENT
DTSTAMP:20260423T082746Z
UID:7-397529@pointbible.tithelysetup2.com
DTSTART:20260425T123000Z
DTEND:20260425T210000Z
CLASS:PUBLIC
CREATED:20260421T104445
DESCRIPTION:A training conference for those who parent or work with childre
 n with trama.
LAST-MODIFIED:20260421T104445
LOCATION:Point Bible Church
SUMMARY:Empowered to Connect Conference
URL;VALUE=URI:https://pointbible.tithelysetup2.com/events/empowered-to-conn
 ect-conference/2026-04-25
END:VEVENT
END:VCALENDAR
